
BEGIN:VCALENDAR
VERSION:2.0
PRODID:-//Clarten - ECPv6.2.6.1//NONSGML v1.0//EN
CALSCALE:GREGORIAN
METHOD:PUBLISH
X-WR-CALNAME:Clarten
X-ORIGINAL-URL:https://clarten.fr
X-WR-CALDESC:évènements pour Clarten
REFRESH-INTERVAL;VALUE=DURATION:PT1H
X-Robots-Tag:noindex
X-PUBLISHED-TTL:PT1H
BEGIN:VTIMEZONE
TZID:Europe/Paris
BEGIN:DAYLIGHT
TZOFFSETFROM:+0100
TZOFFSETTO:+0200
TZNAME:CEST
DTSTART:20200329T010000
END:DAYLIGHT
BEGIN:STANDARD
TZOFFSETFROM:+0200
TZOFFSETTO:+0100
TZNAME:CET
DTSTART:20201025T010000
END:STANDARD
END:VTIMEZONE
BEGIN:VEVENT
DTSTART;VALUE=DATE:20201006
DTEND;VALUE=DATE:20201009
DTSTAMP:20260425T154621
CREATED:20191204T172449Z
LAST-MODIFIED:20191204T172623Z
UID:3244-1601942400-1602201599@clarten.fr
SUMMARY:Certification Sophos Architect
DESCRIPTION:
URL:https://clarten.fr/date/certification-sophos-architect-2/
LOCATION:Clarten La Ciotat\, Bât B Zi Athelia 4 Espace Mistral 297 av Mistral\, LA CIOTAT\, 13600\, France
CATEGORIES:Formation Réseau Sécurité
ATTACH;FMTTYPE=image/jpeg:https://clarten.fr/wp-content/uploads/2019/12/csm_Certified-Architect.jpg
END:VEVENT
END:VCALENDAR