
BEGIN:VCALENDAR
VERSION:2.0
PRODID:-//Clarten - ECPv6.2.6.1//NONSGML v1.0//EN
CALSCALE:GREGORIAN
METHOD:PUBLISH
X-WR-CALNAME:Clarten
X-ORIGINAL-URL:https://clarten.fr
X-WR-CALDESC:évènements pour Clarten
REFRESH-INTERVAL;VALUE=DURATION:PT1H
X-Robots-Tag:noindex
X-PUBLISHED-TTL:PT1H
BEGIN:VTIMEZONE
TZID:Europe/Paris
BEGIN:DAYLIGHT
TZOFFSETFROM:+0100
TZOFFSETTO:+0200
TZNAME:CEST
DTSTART:20200329T010000
END:DAYLIGHT
BEGIN:STANDARD
TZOFFSETFROM:+0200
TZOFFSETTO:+0100
TZNAME:CET
DTSTART:20201025T010000
END:STANDARD
END:VTIMEZONE
BEGIN:VEVENT
DTSTART;VALUE=DATE:20200701
DTEND;VALUE=DATE:20200704
DTSTAMP:20260425T192157
CREATED:20181129T162103Z
LAST-MODIFIED:20191204T164305Z
UID:1511-1593561600-1593820799@clarten.fr
SUMMARY:Formation "Sophos XG Engineer"
DESCRIPTION:
URL:https://clarten.fr/date/formation-sophos-xg-firewall-velizy/
LOCATION:Clarten Vélizy\, Batiment A\, 1 bis\, rue du Petit Clamart\, Vélizy - Villacoublay\, Ile de France\, 78140\, France
CATEGORIES:Formation Réseau Sécurité
ATTACH;FMTTYPE=image/png:https://clarten.fr/wp-content/uploads/2018/09/sophosxg-compressor.png
END:VEVENT
END:VCALENDAR